BEGIN:VCALENDAR
VERSION:2.0
PRODID:Spatie calendar-links
BEGIN:VEVENT
UID:2cc484af6f63bea1166784e4820f3e8e
SUMMARY:Public Viewing - DFB Pokalfinale (Stiftsplatz)
DTSTAMP:20240525T160000Z
DTSTART:20240525T160000Z
DTEND:20240525T220000Z
DESCRIPTION:Alle Informationen zur Veranstaltungen: https://lautern-kann-mehr.de/veranstaltung/168/public-viewing-dfb-pokalfinale-stiftsplatz
END:VEVENT
END:VCALENDAR