BEGIN:VCALENDAR
VERSION:2.0
PRODID:Spatie calendar-links
BEGIN:VEVENT
UID:42886d53aebbc49728b41a08a2c016da
SUMMARY:LEBENSART: Garten\, Wohnen und Lifestyle
DTSTAMP:20240524T085000Z
DTSTART:20240524T085000Z
DTEND:20240526T160000Z
DESCRIPTION:Alle Informationen zur Veranstaltungen: https://lautern-kann-mehr.de/veranstaltung/223/lebensart-garten-wohnen-und-lifestyle
END:VEVENT
END:VCALENDAR