BEGIN:VCALENDAR
VERSION:2.0
PRODID:Spatie calendar-links
BEGIN:VEVENT
UID:213cff7d92c45d78bdca9134e4b47696
SUMMARY:Floh- und Trödelmarkt
DTSTAMP:20240601T070000Z
DTSTART:20240601T070000Z
DTEND:20241228T110000Z
DESCRIPTION:Alle Informationen zur Veranstaltungen: https://lautern-kann-mehr.de/veranstaltung/231/floh-und-troedelmarkt
END:VEVENT
END:VCALENDAR