BEGIN:VCALENDAR
VERSION:2.0
PRODID:Spatie calendar-links
BEGIN:VEVENT
UID:a57b75b5f8d354d9349549c3fb7a24a1
SUMMARY:GROSSER GARTENSCHAU KINDERBASAR
DTSTAMP:20240713T080000Z
DTSTART:20240713T080000Z
DTEND:20240713T120000Z
DESCRIPTION:Alle Informationen zur Veranstaltungen: https://lautern-kann-mehr.de/veranstaltung/249/grosser-gartenschau-kinderbasar
END:VEVENT
END:VCALENDAR