BEGIN:VCALENDAR
VERSION:2.0
PRODID:Spatie calendar-links
BEGIN:VEVENT
UID:2e4c3c22d44b7c476c24d8e8741771ff
SUMMARY:Weihnachtskonzert
DTSTAMP:20241213T170000Z
DTSTART:20241213T170000Z
DTEND:20241213T190000Z
DESCRIPTION:Alle Informationen zur Veranstaltungen: https://lautern-kann-mehr.de/veranstaltung/258/weihnachtskonzert
END:VEVENT
END:VCALENDAR