BEGIN:VCALENDAR
VERSION:2.0
PRODID:Spatie calendar-links
BEGIN:VEVENT
UID:ceeed5620f9958d9d7c48a4f8fb7831b
SUMMARY:36. Hornbach-Citylauf
DTSTAMP:20230625T090000Z
DTSTART:20230625T090000Z
DTEND:20230625T140000Z
DESCRIPTION:Alle Informationen zur Veranstaltungen: https://lautern-kann-mehr.de/veranstaltung/27/36-hornbach-citylauf
END:VEVENT
END:VCALENDAR