BEGIN:VCALENDAR
VERSION:2.0
PRODID:Spatie calendar-links
BEGIN:VEVENT
UID:c6e0ebdc6d5ad42c8c0f041a40b004b4
SUMMARY:Führung: „KONKRET KUNST. Von Alditüte bis ZERO“\, Dr. Sören Fischer
DTSTAMP:20230330T090000Z
DTSTART:20230330T090000Z
DTEND:20230330T110000Z
DESCRIPTION:Alle Informationen zur Veranstaltungen: https://lautern-kann-mehr.de/veranstaltung/81/fuehrung-konkret-kunst-von-aldituete-bis-zero-dr-soeren-fischer
END:VEVENT
END:VCALENDAR